BEGIN:VCALENDAR
VERSION:2.0
PRODID:-//Cedar Mountain Canteen - ECPv6.15.20//NONSGML v1.0//EN
CALSCALE:GREGORIAN
METHOD:PUBLISH
X-WR-CALNAME:Cedar Mountain Canteen
X-ORIGINAL-URL:https://cedarmountaincanteen.com
X-WR-CALDESC:Events for Cedar Mountain Canteen
REFRESH-INTERVAL;VALUE=DURATION:PT1H
X-Robots-Tag:noindex
X-PUBLISHED-TTL:PT1H
BEGIN:VTIMEZONE
TZID:America/New_York
BEGIN:DAYLIGHT
TZOFFSETFROM:-0500
TZOFFSETTO:-0400
TZNAME:EDT
DTSTART:20250309T070000
END:DAYLIGHT
BEGIN:STANDARD
TZOFFSETFROM:-0400
TZOFFSETTO:-0500
TZNAME:EST
DTSTART:20251102T060000
END:STANDARD
BEGIN:DAYLIGHT
TZOFFSETFROM:-0500
TZOFFSETTO:-0400
TZNAME:EDT
DTSTART:20260308T070000
END:DAYLIGHT
BEGIN:STANDARD
TZOFFSETFROM:-0400
TZOFFSETTO:-0500
TZNAME:EST
DTSTART:20261101T060000
END:STANDARD
BEGIN:DAYLIGHT
TZOFFSETFROM:-0500
TZOFFSETTO:-0400
TZNAME:EDT
DTSTART:20270314T070000
END:DAYLIGHT
BEGIN:STANDARD
TZOFFSETFROM:-0400
TZOFFSETTO:-0500
TZNAME:EST
DTSTART:20271107T060000
END:STANDARD
END:VTIMEZONE
BEGIN:VEVENT
DTSTART;TZID=America/New_York:20260423T180000
DTEND;TZID=America/New_York:20260423T200000
DTSTAMP:20260423T044742
CREATED:20251028T200715Z
LAST-MODIFIED:20260416T015436Z
UID:10003489-1776967200-1776974400@cedarmountaincanteen.com
SUMMARY:Song Swap with Paddle Faster
DESCRIPTION:Got a song (or three) to share? Come to the Cedar Mountain Canteen’s Song Swap. \nPrepare your songs to bring to the group\, and help lead those who want to join you. All acoustic genres and instruments welcome.
URL:https://cedarmountaincanteen.com/event/song-swap-with-paddle-faster-3-2/2026-04-23/
LOCATION:Cedar Mountain Canteen\, 10771 Greenville Hwy\, Cedar Mountain\, NC\, 28718\, United States
CATEGORIES:Appalachian
ATTACH;FMTTYPE=image/jpeg:https://cedarmountaincanteen.com/wp-content/uploads/2024/04/paddlefaster.jpg
END:VEVENT
BEGIN:VEVENT
DTSTART;TZID=America/New_York:20260430T180000
DTEND;TZID=America/New_York:20260430T200000
DTSTAMP:20260423T044742
CREATED:20251028T200715Z
LAST-MODIFIED:20260416T015436Z
UID:10003490-1777572000-1777579200@cedarmountaincanteen.com
SUMMARY:Song Swap with Paddle Faster
DESCRIPTION:Got a song (or three) to share? Come to the Cedar Mountain Canteen’s Song Swap. \nPrepare your songs to bring to the group\, and help lead those who want to join you. All acoustic genres and instruments welcome.
URL:https://cedarmountaincanteen.com/event/song-swap-with-paddle-faster-3-2/2026-04-30/
LOCATION:Cedar Mountain Canteen\, 10771 Greenville Hwy\, Cedar Mountain\, NC\, 28718\, United States
CATEGORIES:Appalachian
ATTACH;FMTTYPE=image/jpeg:https://cedarmountaincanteen.com/wp-content/uploads/2024/04/paddlefaster.jpg
END:VEVENT
BEGIN:VEVENT
DTSTART;TZID=America/New_York:20260507T180000
DTEND;TZID=America/New_York:20260507T200000
DTSTAMP:20260423T044742
CREATED:20251028T200715Z
LAST-MODIFIED:20260416T015436Z
UID:10003491-1778176800-1778184000@cedarmountaincanteen.com
SUMMARY:Song Swap with Paddle Faster
DESCRIPTION:Got a song (or three) to share? Come to the Cedar Mountain Canteen’s Song Swap. \nPrepare your songs to bring to the group\, and help lead those who want to join you. All acoustic genres and instruments welcome.
URL:https://cedarmountaincanteen.com/event/song-swap-with-paddle-faster-3-2/2026-05-07/
LOCATION:Cedar Mountain Canteen\, 10771 Greenville Hwy\, Cedar Mountain\, NC\, 28718\, United States
CATEGORIES:Appalachian
ATTACH;FMTTYPE=image/jpeg:https://cedarmountaincanteen.com/wp-content/uploads/2024/04/paddlefaster.jpg
END:VEVENT
BEGIN:VEVENT
DTSTART;TZID=America/New_York:20260514T180000
DTEND;TZID=America/New_York:20260514T200000
DTSTAMP:20260423T044742
CREATED:20251028T200715Z
LAST-MODIFIED:20260416T015436Z
UID:10003492-1778781600-1778788800@cedarmountaincanteen.com
SUMMARY:Song Swap with Paddle Faster
DESCRIPTION:Got a song (or three) to share? Come to the Cedar Mountain Canteen’s Song Swap. \nPrepare your songs to bring to the group\, and help lead those who want to join you. All acoustic genres and instruments welcome.
URL:https://cedarmountaincanteen.com/event/song-swap-with-paddle-faster-3-2/2026-05-14/
LOCATION:Cedar Mountain Canteen\, 10771 Greenville Hwy\, Cedar Mountain\, NC\, 28718\, United States
CATEGORIES:Appalachian
ATTACH;FMTTYPE=image/jpeg:https://cedarmountaincanteen.com/wp-content/uploads/2024/04/paddlefaster.jpg
END:VEVENT
BEGIN:VEVENT
DTSTART;TZID=America/New_York:20260521T180000
DTEND;TZID=America/New_York:20260521T200000
DTSTAMP:20260423T044742
CREATED:20251028T200715Z
LAST-MODIFIED:20260416T015436Z
UID:10003493-1779386400-1779393600@cedarmountaincanteen.com
SUMMARY:Song Swap with Paddle Faster
DESCRIPTION:Got a song (or three) to share? Come to the Cedar Mountain Canteen’s Song Swap. \nPrepare your songs to bring to the group\, and help lead those who want to join you. All acoustic genres and instruments welcome.
URL:https://cedarmountaincanteen.com/event/song-swap-with-paddle-faster-3-2/2026-05-21/
LOCATION:Cedar Mountain Canteen\, 10771 Greenville Hwy\, Cedar Mountain\, NC\, 28718\, United States
CATEGORIES:Appalachian
ATTACH;FMTTYPE=image/jpeg:https://cedarmountaincanteen.com/wp-content/uploads/2024/04/paddlefaster.jpg
END:VEVENT
BEGIN:VEVENT
DTSTART;TZID=America/New_York:20260528T180000
DTEND;TZID=America/New_York:20260528T200000
DTSTAMP:20260423T044742
CREATED:20251028T200715Z
LAST-MODIFIED:20260416T015436Z
UID:10003494-1779991200-1779998400@cedarmountaincanteen.com
SUMMARY:Song Swap with Paddle Faster
DESCRIPTION:Got a song (or three) to share? Come to the Cedar Mountain Canteen’s Song Swap. \nPrepare your songs to bring to the group\, and help lead those who want to join you. All acoustic genres and instruments welcome.
URL:https://cedarmountaincanteen.com/event/song-swap-with-paddle-faster-3-2/2026-05-28/
LOCATION:Cedar Mountain Canteen\, 10771 Greenville Hwy\, Cedar Mountain\, NC\, 28718\, United States
CATEGORIES:Appalachian
ATTACH;FMTTYPE=image/jpeg:https://cedarmountaincanteen.com/wp-content/uploads/2024/04/paddlefaster.jpg
END:VEVENT
BEGIN:VEVENT
DTSTART;TZID=America/New_York:20260604T180000
DTEND;TZID=America/New_York:20260604T200000
DTSTAMP:20260423T044742
CREATED:20251028T200715Z
LAST-MODIFIED:20260416T015436Z
UID:10003495-1780596000-1780603200@cedarmountaincanteen.com
SUMMARY:Song Swap with Paddle Faster
DESCRIPTION:Got a song (or three) to share? Come to the Cedar Mountain Canteen’s Song Swap. \nPrepare your songs to bring to the group\, and help lead those who want to join you. All acoustic genres and instruments welcome.
URL:https://cedarmountaincanteen.com/event/song-swap-with-paddle-faster-3-2/2026-06-04/
LOCATION:Cedar Mountain Canteen\, 10771 Greenville Hwy\, Cedar Mountain\, NC\, 28718\, United States
CATEGORIES:Appalachian
ATTACH;FMTTYPE=image/jpeg:https://cedarmountaincanteen.com/wp-content/uploads/2024/04/paddlefaster.jpg
END:VEVENT
BEGIN:VEVENT
DTSTART;TZID=America/New_York:20260611T180000
DTEND;TZID=America/New_York:20260611T200000
DTSTAMP:20260423T044742
CREATED:20251028T200715Z
LAST-MODIFIED:20260416T015436Z
UID:10003496-1781200800-1781208000@cedarmountaincanteen.com
SUMMARY:Song Swap with Paddle Faster
DESCRIPTION:Got a song (or three) to share? Come to the Cedar Mountain Canteen’s Song Swap. \nPrepare your songs to bring to the group\, and help lead those who want to join you. All acoustic genres and instruments welcome.
URL:https://cedarmountaincanteen.com/event/song-swap-with-paddle-faster-3-2/2026-06-11/
LOCATION:Cedar Mountain Canteen\, 10771 Greenville Hwy\, Cedar Mountain\, NC\, 28718\, United States
CATEGORIES:Appalachian
ATTACH;FMTTYPE=image/jpeg:https://cedarmountaincanteen.com/wp-content/uploads/2024/04/paddlefaster.jpg
END:VEVENT
BEGIN:VEVENT
DTSTART;TZID=America/New_York:20260618T180000
DTEND;TZID=America/New_York:20260618T200000
DTSTAMP:20260423T044742
CREATED:20251028T200715Z
LAST-MODIFIED:20260416T015436Z
UID:10003497-1781805600-1781812800@cedarmountaincanteen.com
SUMMARY:Song Swap with Paddle Faster
DESCRIPTION:Got a song (or three) to share? Come to the Cedar Mountain Canteen’s Song Swap. \nPrepare your songs to bring to the group\, and help lead those who want to join you. All acoustic genres and instruments welcome.
URL:https://cedarmountaincanteen.com/event/song-swap-with-paddle-faster-3-2/2026-06-18/
LOCATION:Cedar Mountain Canteen\, 10771 Greenville Hwy\, Cedar Mountain\, NC\, 28718\, United States
CATEGORIES:Appalachian
ATTACH;FMTTYPE=image/jpeg:https://cedarmountaincanteen.com/wp-content/uploads/2024/04/paddlefaster.jpg
END:VEVENT
BEGIN:VEVENT
DTSTART;TZID=America/New_York:20260625T180000
DTEND;TZID=America/New_York:20260625T200000
DTSTAMP:20260423T044742
CREATED:20251028T200715Z
LAST-MODIFIED:20260416T015436Z
UID:10003498-1782410400-1782417600@cedarmountaincanteen.com
SUMMARY:Song Swap with Paddle Faster
DESCRIPTION:Got a song (or three) to share? Come to the Cedar Mountain Canteen’s Song Swap. \nPrepare your songs to bring to the group\, and help lead those who want to join you. All acoustic genres and instruments welcome.
URL:https://cedarmountaincanteen.com/event/song-swap-with-paddle-faster-3-2/2026-06-25/
LOCATION:Cedar Mountain Canteen\, 10771 Greenville Hwy\, Cedar Mountain\, NC\, 28718\, United States
CATEGORIES:Appalachian
ATTACH;FMTTYPE=image/jpeg:https://cedarmountaincanteen.com/wp-content/uploads/2024/04/paddlefaster.jpg
END:VEVENT
BEGIN:VEVENT
DTSTART;TZID=America/New_York:20260702T180000
DTEND;TZID=America/New_York:20260702T200000
DTSTAMP:20260423T044742
CREATED:20251028T200715Z
LAST-MODIFIED:20260416T015436Z
UID:10003499-1783015200-1783022400@cedarmountaincanteen.com
SUMMARY:Song Swap with Paddle Faster
DESCRIPTION:Got a song (or three) to share? Come to the Cedar Mountain Canteen’s Song Swap. \nPrepare your songs to bring to the group\, and help lead those who want to join you. All acoustic genres and instruments welcome.
URL:https://cedarmountaincanteen.com/event/song-swap-with-paddle-faster-3-2/2026-07-02/
LOCATION:Cedar Mountain Canteen\, 10771 Greenville Hwy\, Cedar Mountain\, NC\, 28718\, United States
CATEGORIES:Appalachian
ATTACH;FMTTYPE=image/jpeg:https://cedarmountaincanteen.com/wp-content/uploads/2024/04/paddlefaster.jpg
END:VEVENT
BEGIN:VEVENT
DTSTART;TZID=America/New_York:20260709T180000
DTEND;TZID=America/New_York:20260709T200000
DTSTAMP:20260423T044742
CREATED:20251028T200715Z
LAST-MODIFIED:20260416T015436Z
UID:10003500-1783620000-1783627200@cedarmountaincanteen.com
SUMMARY:Song Swap with Paddle Faster
DESCRIPTION:Got a song (or three) to share? Come to the Cedar Mountain Canteen’s Song Swap. \nPrepare your songs to bring to the group\, and help lead those who want to join you. All acoustic genres and instruments welcome.
URL:https://cedarmountaincanteen.com/event/song-swap-with-paddle-faster-3-2/2026-07-09/
LOCATION:Cedar Mountain Canteen\, 10771 Greenville Hwy\, Cedar Mountain\, NC\, 28718\, United States
CATEGORIES:Appalachian
ATTACH;FMTTYPE=image/jpeg:https://cedarmountaincanteen.com/wp-content/uploads/2024/04/paddlefaster.jpg
END:VEVENT
BEGIN:VEVENT
DTSTART;TZID=America/New_York:20260716T180000
DTEND;TZID=America/New_York:20260716T200000
DTSTAMP:20260423T044742
CREATED:20251028T200715Z
LAST-MODIFIED:20260416T015436Z
UID:10003501-1784224800-1784232000@cedarmountaincanteen.com
SUMMARY:Song Swap with Paddle Faster
DESCRIPTION:Got a song (or three) to share? Come to the Cedar Mountain Canteen’s Song Swap. \nPrepare your songs to bring to the group\, and help lead those who want to join you. All acoustic genres and instruments welcome.
URL:https://cedarmountaincanteen.com/event/song-swap-with-paddle-faster-3-2/2026-07-16/
LOCATION:Cedar Mountain Canteen\, 10771 Greenville Hwy\, Cedar Mountain\, NC\, 28718\, United States
CATEGORIES:Appalachian
ATTACH;FMTTYPE=image/jpeg:https://cedarmountaincanteen.com/wp-content/uploads/2024/04/paddlefaster.jpg
END:VEVENT
BEGIN:VEVENT
DTSTART;TZID=America/New_York:20260723T180000
DTEND;TZID=America/New_York:20260723T200000
DTSTAMP:20260423T044742
CREATED:20251028T200715Z
LAST-MODIFIED:20260416T015436Z
UID:10003502-1784829600-1784836800@cedarmountaincanteen.com
SUMMARY:Song Swap with Paddle Faster
DESCRIPTION:Got a song (or three) to share? Come to the Cedar Mountain Canteen’s Song Swap. \nPrepare your songs to bring to the group\, and help lead those who want to join you. All acoustic genres and instruments welcome.
URL:https://cedarmountaincanteen.com/event/song-swap-with-paddle-faster-3-2/2026-07-23/
LOCATION:Cedar Mountain Canteen\, 10771 Greenville Hwy\, Cedar Mountain\, NC\, 28718\, United States
CATEGORIES:Appalachian
ATTACH;FMTTYPE=image/jpeg:https://cedarmountaincanteen.com/wp-content/uploads/2024/04/paddlefaster.jpg
END:VEVENT
BEGIN:VEVENT
DTSTART;TZID=America/New_York:20260730T180000
DTEND;TZID=America/New_York:20260730T200000
DTSTAMP:20260423T044742
CREATED:20251028T200715Z
LAST-MODIFIED:20260416T015436Z
UID:10003503-1785434400-1785441600@cedarmountaincanteen.com
SUMMARY:Song Swap with Paddle Faster
DESCRIPTION:Got a song (or three) to share? Come to the Cedar Mountain Canteen’s Song Swap. \nPrepare your songs to bring to the group\, and help lead those who want to join you. All acoustic genres and instruments welcome.
URL:https://cedarmountaincanteen.com/event/song-swap-with-paddle-faster-3-2/2026-07-30/
LOCATION:Cedar Mountain Canteen\, 10771 Greenville Hwy\, Cedar Mountain\, NC\, 28718\, United States
CATEGORIES:Appalachian
ATTACH;FMTTYPE=image/jpeg:https://cedarmountaincanteen.com/wp-content/uploads/2024/04/paddlefaster.jpg
END:VEVENT
BEGIN:VEVENT
DTSTART;TZID=America/New_York:20260806T180000
DTEND;TZID=America/New_York:20260806T200000
DTSTAMP:20260423T044742
CREATED:20251028T200715Z
LAST-MODIFIED:20260416T015436Z
UID:10003504-1786039200-1786046400@cedarmountaincanteen.com
SUMMARY:Song Swap with Paddle Faster
DESCRIPTION:Got a song (or three) to share? Come to the Cedar Mountain Canteen’s Song Swap. \nPrepare your songs to bring to the group\, and help lead those who want to join you. All acoustic genres and instruments welcome.
URL:https://cedarmountaincanteen.com/event/song-swap-with-paddle-faster-3-2/2026-08-06/
LOCATION:Cedar Mountain Canteen\, 10771 Greenville Hwy\, Cedar Mountain\, NC\, 28718\, United States
CATEGORIES:Appalachian
ATTACH;FMTTYPE=image/jpeg:https://cedarmountaincanteen.com/wp-content/uploads/2024/04/paddlefaster.jpg
END:VEVENT
BEGIN:VEVENT
DTSTART;TZID=America/New_York:20260813T180000
DTEND;TZID=America/New_York:20260813T200000
DTSTAMP:20260423T044742
CREATED:20251028T200715Z
LAST-MODIFIED:20260416T015436Z
UID:10003505-1786644000-1786651200@cedarmountaincanteen.com
SUMMARY:Song Swap with Paddle Faster
DESCRIPTION:Got a song (or three) to share? Come to the Cedar Mountain Canteen’s Song Swap. \nPrepare your songs to bring to the group\, and help lead those who want to join you. All acoustic genres and instruments welcome.
URL:https://cedarmountaincanteen.com/event/song-swap-with-paddle-faster-3-2/2026-08-13/
LOCATION:Cedar Mountain Canteen\, 10771 Greenville Hwy\, Cedar Mountain\, NC\, 28718\, United States
CATEGORIES:Appalachian
ATTACH;FMTTYPE=image/jpeg:https://cedarmountaincanteen.com/wp-content/uploads/2024/04/paddlefaster.jpg
END:VEVENT
BEGIN:VEVENT
DTSTART;TZID=America/New_York:20260820T180000
DTEND;TZID=America/New_York:20260820T200000
DTSTAMP:20260423T044742
CREATED:20251028T200715Z
LAST-MODIFIED:20260416T015436Z
UID:10003506-1787248800-1787256000@cedarmountaincanteen.com
SUMMARY:Song Swap with Paddle Faster
DESCRIPTION:Got a song (or three) to share? Come to the Cedar Mountain Canteen’s Song Swap. \nPrepare your songs to bring to the group\, and help lead those who want to join you. All acoustic genres and instruments welcome.
URL:https://cedarmountaincanteen.com/event/song-swap-with-paddle-faster-3-2/2026-08-20/
LOCATION:Cedar Mountain Canteen\, 10771 Greenville Hwy\, Cedar Mountain\, NC\, 28718\, United States
CATEGORIES:Appalachian
ATTACH;FMTTYPE=image/jpeg:https://cedarmountaincanteen.com/wp-content/uploads/2024/04/paddlefaster.jpg
END:VEVENT
BEGIN:VEVENT
DTSTART;TZID=America/New_York:20260827T180000
DTEND;TZID=America/New_York:20260827T200000
DTSTAMP:20260423T044742
CREATED:20251028T200715Z
LAST-MODIFIED:20260416T015436Z
UID:10003507-1787853600-1787860800@cedarmountaincanteen.com
SUMMARY:Song Swap with Paddle Faster
DESCRIPTION:Got a song (or three) to share? Come to the Cedar Mountain Canteen’s Song Swap. \nPrepare your songs to bring to the group\, and help lead those who want to join you. All acoustic genres and instruments welcome.
URL:https://cedarmountaincanteen.com/event/song-swap-with-paddle-faster-3-2/2026-08-27/
LOCATION:Cedar Mountain Canteen\, 10771 Greenville Hwy\, Cedar Mountain\, NC\, 28718\, United States
CATEGORIES:Appalachian
ATTACH;FMTTYPE=image/jpeg:https://cedarmountaincanteen.com/wp-content/uploads/2024/04/paddlefaster.jpg
END:VEVENT
BEGIN:VEVENT
DTSTART;TZID=America/New_York:20260903T180000
DTEND;TZID=America/New_York:20260903T200000
DTSTAMP:20260423T044742
CREATED:20251028T200715Z
LAST-MODIFIED:20260416T015436Z
UID:10003508-1788458400-1788465600@cedarmountaincanteen.com
SUMMARY:Song Swap with Paddle Faster
DESCRIPTION:Got a song (or three) to share? Come to the Cedar Mountain Canteen’s Song Swap. \nPrepare your songs to bring to the group\, and help lead those who want to join you. All acoustic genres and instruments welcome.
URL:https://cedarmountaincanteen.com/event/song-swap-with-paddle-faster-3-2/2026-09-03/
LOCATION:Cedar Mountain Canteen\, 10771 Greenville Hwy\, Cedar Mountain\, NC\, 28718\, United States
CATEGORIES:Appalachian
ATTACH;FMTTYPE=image/jpeg:https://cedarmountaincanteen.com/wp-content/uploads/2024/04/paddlefaster.jpg
END:VEVENT
BEGIN:VEVENT
DTSTART;TZID=America/New_York:20260910T180000
DTEND;TZID=America/New_York:20260910T200000
DTSTAMP:20260423T044742
CREATED:20251028T200715Z
LAST-MODIFIED:20260416T015436Z
UID:10003509-1789063200-1789070400@cedarmountaincanteen.com
SUMMARY:Song Swap with Paddle Faster
DESCRIPTION:Got a song (or three) to share? Come to the Cedar Mountain Canteen’s Song Swap. \nPrepare your songs to bring to the group\, and help lead those who want to join you. All acoustic genres and instruments welcome.
URL:https://cedarmountaincanteen.com/event/song-swap-with-paddle-faster-3-2/2026-09-10/
LOCATION:Cedar Mountain Canteen\, 10771 Greenville Hwy\, Cedar Mountain\, NC\, 28718\, United States
CATEGORIES:Appalachian
ATTACH;FMTTYPE=image/jpeg:https://cedarmountaincanteen.com/wp-content/uploads/2024/04/paddlefaster.jpg
END:VEVENT
BEGIN:VEVENT
DTSTART;TZID=America/New_York:20260917T180000
DTEND;TZID=America/New_York:20260917T200000
DTSTAMP:20260423T044742
CREATED:20251028T200715Z
LAST-MODIFIED:20260416T015436Z
UID:10003510-1789668000-1789675200@cedarmountaincanteen.com
SUMMARY:Song Swap with Paddle Faster
DESCRIPTION:Got a song (or three) to share? Come to the Cedar Mountain Canteen’s Song Swap. \nPrepare your songs to bring to the group\, and help lead those who want to join you. All acoustic genres and instruments welcome.
URL:https://cedarmountaincanteen.com/event/song-swap-with-paddle-faster-3-2/2026-09-17/
LOCATION:Cedar Mountain Canteen\, 10771 Greenville Hwy\, Cedar Mountain\, NC\, 28718\, United States
CATEGORIES:Appalachian
ATTACH;FMTTYPE=image/jpeg:https://cedarmountaincanteen.com/wp-content/uploads/2024/04/paddlefaster.jpg
END:VEVENT
BEGIN:VEVENT
DTSTART;TZID=America/New_York:20260924T180000
DTEND;TZID=America/New_York:20260924T200000
DTSTAMP:20260423T044742
CREATED:20251028T200715Z
LAST-MODIFIED:20260416T015436Z
UID:10003511-1790272800-1790280000@cedarmountaincanteen.com
SUMMARY:Song Swap with Paddle Faster
DESCRIPTION:Got a song (or three) to share? Come to the Cedar Mountain Canteen’s Song Swap. \nPrepare your songs to bring to the group\, and help lead those who want to join you. All acoustic genres and instruments welcome.
URL:https://cedarmountaincanteen.com/event/song-swap-with-paddle-faster-3-2/2026-09-24/
LOCATION:Cedar Mountain Canteen\, 10771 Greenville Hwy\, Cedar Mountain\, NC\, 28718\, United States
CATEGORIES:Appalachian
ATTACH;FMTTYPE=image/jpeg:https://cedarmountaincanteen.com/wp-content/uploads/2024/04/paddlefaster.jpg
END:VEVENT
BEGIN:VEVENT
DTSTART;TZID=America/New_York:20261001T180000
DTEND;TZID=America/New_York:20261001T200000
DTSTAMP:20260423T044742
CREATED:20251028T200715Z
LAST-MODIFIED:20260416T015436Z
UID:10003512-1790877600-1790884800@cedarmountaincanteen.com
SUMMARY:Song Swap with Paddle Faster
DESCRIPTION:Got a song (or three) to share? Come to the Cedar Mountain Canteen’s Song Swap. \nPrepare your songs to bring to the group\, and help lead those who want to join you. All acoustic genres and instruments welcome.
URL:https://cedarmountaincanteen.com/event/song-swap-with-paddle-faster-3-2/2026-10-01/
LOCATION:Cedar Mountain Canteen\, 10771 Greenville Hwy\, Cedar Mountain\, NC\, 28718\, United States
CATEGORIES:Appalachian
ATTACH;FMTTYPE=image/jpeg:https://cedarmountaincanteen.com/wp-content/uploads/2024/04/paddlefaster.jpg
END:VEVENT
BEGIN:VEVENT
DTSTART;TZID=America/New_York:20261008T180000
DTEND;TZID=America/New_York:20261008T200000
DTSTAMP:20260423T044742
CREATED:20251028T200715Z
LAST-MODIFIED:20260416T015436Z
UID:10003513-1791482400-1791489600@cedarmountaincanteen.com
SUMMARY:Song Swap with Paddle Faster
DESCRIPTION:Got a song (or three) to share? Come to the Cedar Mountain Canteen’s Song Swap. \nPrepare your songs to bring to the group\, and help lead those who want to join you. All acoustic genres and instruments welcome.
URL:https://cedarmountaincanteen.com/event/song-swap-with-paddle-faster-3-2/2026-10-08/
LOCATION:Cedar Mountain Canteen\, 10771 Greenville Hwy\, Cedar Mountain\, NC\, 28718\, United States
CATEGORIES:Appalachian
ATTACH;FMTTYPE=image/jpeg:https://cedarmountaincanteen.com/wp-content/uploads/2024/04/paddlefaster.jpg
END:VEVENT
BEGIN:VEVENT
DTSTART;TZID=America/New_York:20261015T180000
DTEND;TZID=America/New_York:20261015T200000
DTSTAMP:20260423T044742
CREATED:20251028T200715Z
LAST-MODIFIED:20260416T015436Z
UID:10003514-1792087200-1792094400@cedarmountaincanteen.com
SUMMARY:Song Swap with Paddle Faster
DESCRIPTION:Got a song (or three) to share? Come to the Cedar Mountain Canteen’s Song Swap. \nPrepare your songs to bring to the group\, and help lead those who want to join you. All acoustic genres and instruments welcome.
URL:https://cedarmountaincanteen.com/event/song-swap-with-paddle-faster-3-2/2026-10-15/
LOCATION:Cedar Mountain Canteen\, 10771 Greenville Hwy\, Cedar Mountain\, NC\, 28718\, United States
CATEGORIES:Appalachian
ATTACH;FMTTYPE=image/jpeg:https://cedarmountaincanteen.com/wp-content/uploads/2024/04/paddlefaster.jpg
END:VEVENT
BEGIN:VEVENT
DTSTART;TZID=America/New_York:20261022T180000
DTEND;TZID=America/New_York:20261022T200000
DTSTAMP:20260423T044742
CREATED:20251028T200715Z
LAST-MODIFIED:20260416T015436Z
UID:10003515-1792692000-1792699200@cedarmountaincanteen.com
SUMMARY:Song Swap with Paddle Faster
DESCRIPTION:Got a song (or three) to share? Come to the Cedar Mountain Canteen’s Song Swap. \nPrepare your songs to bring to the group\, and help lead those who want to join you. All acoustic genres and instruments welcome.
URL:https://cedarmountaincanteen.com/event/song-swap-with-paddle-faster-3-2/2026-10-22/
LOCATION:Cedar Mountain Canteen\, 10771 Greenville Hwy\, Cedar Mountain\, NC\, 28718\, United States
CATEGORIES:Appalachian
ATTACH;FMTTYPE=image/jpeg:https://cedarmountaincanteen.com/wp-content/uploads/2024/04/paddlefaster.jpg
END:VEVENT
BEGIN:VEVENT
DTSTART;TZID=America/New_York:20261029T180000
DTEND;TZID=America/New_York:20261029T200000
DTSTAMP:20260423T044742
CREATED:20251028T200715Z
LAST-MODIFIED:20260416T015436Z
UID:10003516-1793296800-1793304000@cedarmountaincanteen.com
SUMMARY:Song Swap with Paddle Faster
DESCRIPTION:Got a song (or three) to share? Come to the Cedar Mountain Canteen’s Song Swap. \nPrepare your songs to bring to the group\, and help lead those who want to join you. All acoustic genres and instruments welcome.
URL:https://cedarmountaincanteen.com/event/song-swap-with-paddle-faster-3-2/2026-10-29/
LOCATION:Cedar Mountain Canteen\, 10771 Greenville Hwy\, Cedar Mountain\, NC\, 28718\, United States
CATEGORIES:Appalachian
ATTACH;FMTTYPE=image/jpeg:https://cedarmountaincanteen.com/wp-content/uploads/2024/04/paddlefaster.jpg
END:VEVENT
BEGIN:VEVENT
DTSTART;TZID=America/New_York:20261105T180000
DTEND;TZID=America/New_York:20261105T200000
DTSTAMP:20260423T044742
CREATED:20251028T200715Z
LAST-MODIFIED:20260416T015436Z
UID:10003517-1793901600-1793908800@cedarmountaincanteen.com
SUMMARY:Song Swap with Paddle Faster
DESCRIPTION:Got a song (or three) to share? Come to the Cedar Mountain Canteen’s Song Swap. \nPrepare your songs to bring to the group\, and help lead those who want to join you. All acoustic genres and instruments welcome.
URL:https://cedarmountaincanteen.com/event/song-swap-with-paddle-faster-3-2/2026-11-05/
LOCATION:Cedar Mountain Canteen\, 10771 Greenville Hwy\, Cedar Mountain\, NC\, 28718\, United States
CATEGORIES:Appalachian
ATTACH;FMTTYPE=image/jpeg:https://cedarmountaincanteen.com/wp-content/uploads/2024/04/paddlefaster.jpg
END:VEVENT
BEGIN:VEVENT
DTSTART;TZID=America/New_York:20261112T180000
DTEND;TZID=America/New_York:20261112T200000
DTSTAMP:20260423T044742
CREATED:20251028T200715Z
LAST-MODIFIED:20260416T015436Z
UID:10003518-1794506400-1794513600@cedarmountaincanteen.com
SUMMARY:Song Swap with Paddle Faster
DESCRIPTION:Got a song (or three) to share? Come to the Cedar Mountain Canteen’s Song Swap. \nPrepare your songs to bring to the group\, and help lead those who want to join you. All acoustic genres and instruments welcome.
URL:https://cedarmountaincanteen.com/event/song-swap-with-paddle-faster-3-2/2026-11-12/
LOCATION:Cedar Mountain Canteen\, 10771 Greenville Hwy\, Cedar Mountain\, NC\, 28718\, United States
CATEGORIES:Appalachian
ATTACH;FMTTYPE=image/jpeg:https://cedarmountaincanteen.com/wp-content/uploads/2024/04/paddlefaster.jpg
END:VEVENT
END:VCALENDAR