BEGIN:VCALENDAR
VERSION:2.0
PRODID:-//Cedar Mountain Canteen - ECPv6.15.20//NONSGML v1.0//EN
CALSCALE:GREGORIAN
METHOD:PUBLISH
X-ORIGINAL-URL:https://cedarmountaincanteen.com
X-WR-CALDESC:Events for Cedar Mountain Canteen
REFRESH-INTERVAL;VALUE=DURATION:PT1H
X-Robots-Tag:noindex
X-PUBLISHED-TTL:PT1H
BEGIN:VTIMEZONE
TZID:America/New_York
BEGIN:DAYLIGHT
TZOFFSETFROM:-0500
TZOFFSETTO:-0400
TZNAME:EDT
DTSTART:20250309T070000
END:DAYLIGHT
BEGIN:STANDARD
TZOFFSETFROM:-0400
TZOFFSETTO:-0500
TZNAME:EST
DTSTART:20251102T060000
END:STANDARD
BEGIN:DAYLIGHT
TZOFFSETFROM:-0500
TZOFFSETTO:-0400
TZNAME:EDT
DTSTART:20260308T070000
END:DAYLIGHT
BEGIN:STANDARD
TZOFFSETFROM:-0400
TZOFFSETTO:-0500
TZNAME:EST
DTSTART:20261101T060000
END:STANDARD
BEGIN:DAYLIGHT
TZOFFSETFROM:-0500
TZOFFSETTO:-0400
TZNAME:EDT
DTSTART:20270314T070000
END:DAYLIGHT
BEGIN:STANDARD
TZOFFSETFROM:-0400
TZOFFSETTO:-0500
TZNAME:EST
DTSTART:20271107T060000
END:STANDARD
END:VTIMEZONE
BEGIN:VEVENT
DTSTART;TZID=America/New_York:20261119T180000
DTEND;TZID=America/New_York:20261119T200000
DTSTAMP:20260423T060537
CREATED:20251028T200715Z
LAST-MODIFIED:20260416T015436Z
UID:10003519-1795111200-1795118400@cedarmountaincanteen.com
SUMMARY:Song Swap with Paddle Faster
DESCRIPTION:Got a song (or three) to share? Come to the Cedar Mountain Canteen’s Song Swap. \nPrepare your songs to bring to the group\, and help lead those who want to join you. All acoustic genres and instruments welcome.
URL:https://cedarmountaincanteen.com/event/song-swap-with-paddle-faster-3-2/2026-11-19/
LOCATION:Cedar Mountain Canteen\, 10771 Greenville Hwy\, Cedar Mountain\, NC\, 28718\, United States
CATEGORIES:Appalachian
ATTACH;FMTTYPE=image/jpeg:https://cedarmountaincanteen.com/wp-content/uploads/2024/04/paddlefaster.jpg
END:VEVENT
BEGIN:VEVENT
DTSTART;TZID=America/New_York:20261126T180000
DTEND;TZID=America/New_York:20261126T200000
DTSTAMP:20260423T060537
CREATED:20251028T200715Z
LAST-MODIFIED:20260416T015436Z
UID:10003520-1795716000-1795723200@cedarmountaincanteen.com
SUMMARY:Song Swap with Paddle Faster
DESCRIPTION:Got a song (or three) to share? Come to the Cedar Mountain Canteen’s Song Swap. \nPrepare your songs to bring to the group\, and help lead those who want to join you. All acoustic genres and instruments welcome.
URL:https://cedarmountaincanteen.com/event/song-swap-with-paddle-faster-3-2/2026-11-26/
LOCATION:Cedar Mountain Canteen\, 10771 Greenville Hwy\, Cedar Mountain\, NC\, 28718\, United States
CATEGORIES:Appalachian
ATTACH;FMTTYPE=image/jpeg:https://cedarmountaincanteen.com/wp-content/uploads/2024/04/paddlefaster.jpg
END:VEVENT
BEGIN:VEVENT
DTSTART;TZID=America/New_York:20261203T180000
DTEND;TZID=America/New_York:20261203T200000
DTSTAMP:20260423T060537
CREATED:20251028T200715Z
LAST-MODIFIED:20260416T015436Z
UID:10003521-1796320800-1796328000@cedarmountaincanteen.com
SUMMARY:Song Swap with Paddle Faster
DESCRIPTION:Got a song (or three) to share? Come to the Cedar Mountain Canteen’s Song Swap. \nPrepare your songs to bring to the group\, and help lead those who want to join you. All acoustic genres and instruments welcome.
URL:https://cedarmountaincanteen.com/event/song-swap-with-paddle-faster-3-2/2026-12-03/
LOCATION:Cedar Mountain Canteen\, 10771 Greenville Hwy\, Cedar Mountain\, NC\, 28718\, United States
CATEGORIES:Appalachian
ATTACH;FMTTYPE=image/jpeg:https://cedarmountaincanteen.com/wp-content/uploads/2024/04/paddlefaster.jpg
END:VEVENT
BEGIN:VEVENT
DTSTART;TZID=America/New_York:20261210T180000
DTEND;TZID=America/New_York:20261210T200000
DTSTAMP:20260423T060537
CREATED:20251028T200715Z
LAST-MODIFIED:20260416T015436Z
UID:10003522-1796925600-1796932800@cedarmountaincanteen.com
SUMMARY:Song Swap with Paddle Faster
DESCRIPTION:Got a song (or three) to share? Come to the Cedar Mountain Canteen’s Song Swap. \nPrepare your songs to bring to the group\, and help lead those who want to join you. All acoustic genres and instruments welcome.
URL:https://cedarmountaincanteen.com/event/song-swap-with-paddle-faster-3-2/2026-12-10/
LOCATION:Cedar Mountain Canteen\, 10771 Greenville Hwy\, Cedar Mountain\, NC\, 28718\, United States
CATEGORIES:Appalachian
ATTACH;FMTTYPE=image/jpeg:https://cedarmountaincanteen.com/wp-content/uploads/2024/04/paddlefaster.jpg
END:VEVENT
BEGIN:VEVENT
DTSTART;TZID=America/New_York:20261217T180000
DTEND;TZID=America/New_York:20261217T200000
DTSTAMP:20260423T060537
CREATED:20251028T200715Z
LAST-MODIFIED:20260416T015436Z
UID:10003523-1797530400-1797537600@cedarmountaincanteen.com
SUMMARY:Song Swap with Paddle Faster
DESCRIPTION:Got a song (or three) to share? Come to the Cedar Mountain Canteen’s Song Swap. \nPrepare your songs to bring to the group\, and help lead those who want to join you. All acoustic genres and instruments welcome.
URL:https://cedarmountaincanteen.com/event/song-swap-with-paddle-faster-3-2/2026-12-17/
LOCATION:Cedar Mountain Canteen\, 10771 Greenville Hwy\, Cedar Mountain\, NC\, 28718\, United States
CATEGORIES:Appalachian
ATTACH;FMTTYPE=image/jpeg:https://cedarmountaincanteen.com/wp-content/uploads/2024/04/paddlefaster.jpg
END:VEVENT
BEGIN:VEVENT
DTSTART;TZID=America/New_York:20261224T180000
DTEND;TZID=America/New_York:20261224T200000
DTSTAMP:20260423T060537
CREATED:20251028T200715Z
LAST-MODIFIED:20260416T015436Z
UID:10003524-1798135200-1798142400@cedarmountaincanteen.com
SUMMARY:Song Swap with Paddle Faster
DESCRIPTION:Got a song (or three) to share? Come to the Cedar Mountain Canteen’s Song Swap. \nPrepare your songs to bring to the group\, and help lead those who want to join you. All acoustic genres and instruments welcome.
URL:https://cedarmountaincanteen.com/event/song-swap-with-paddle-faster-3-2/2026-12-24/
LOCATION:Cedar Mountain Canteen\, 10771 Greenville Hwy\, Cedar Mountain\, NC\, 28718\, United States
CATEGORIES:Appalachian
ATTACH;FMTTYPE=image/jpeg:https://cedarmountaincanteen.com/wp-content/uploads/2024/04/paddlefaster.jpg
END:VEVENT
BEGIN:VEVENT
DTSTART;TZID=America/New_York:20261231T180000
DTEND;TZID=America/New_York:20261231T200000
DTSTAMP:20260423T060537
CREATED:20251028T200715Z
LAST-MODIFIED:20260416T015436Z
UID:10003525-1798740000-1798747200@cedarmountaincanteen.com
SUMMARY:Song Swap with Paddle Faster
DESCRIPTION:Got a song (or three) to share? Come to the Cedar Mountain Canteen’s Song Swap. \nPrepare your songs to bring to the group\, and help lead those who want to join you. All acoustic genres and instruments welcome.
URL:https://cedarmountaincanteen.com/event/song-swap-with-paddle-faster-3-2/2026-12-31/
LOCATION:Cedar Mountain Canteen\, 10771 Greenville Hwy\, Cedar Mountain\, NC\, 28718\, United States
CATEGORIES:Appalachian
ATTACH;FMTTYPE=image/jpeg:https://cedarmountaincanteen.com/wp-content/uploads/2024/04/paddlefaster.jpg
END:VEVENT
END:VCALENDAR