BEGIN:VCALENDAR
VERSION:2.0
PRODID:-//Cedar Mountain Canteen - ECPv6.15.20//NONSGML v1.0//EN
CALSCALE:GREGORIAN
METHOD:PUBLISH
X-WR-CALNAME:Cedar Mountain Canteen
X-ORIGINAL-URL:https://cedarmountaincanteen.com
X-WR-CALDESC:Events for Cedar Mountain Canteen
REFRESH-INTERVAL;VALUE=DURATION:PT1H
X-Robots-Tag:noindex
X-PUBLISHED-TTL:PT1H
BEGIN:VTIMEZONE
TZID:America/New_York
BEGIN:DAYLIGHT
TZOFFSETFROM:-0500
TZOFFSETTO:-0400
TZNAME:EDT
DTSTART:20240310T070000
END:DAYLIGHT
BEGIN:STANDARD
TZOFFSETFROM:-0400
TZOFFSETTO:-0500
TZNAME:EST
DTSTART:20241103T060000
END:STANDARD
BEGIN:DAYLIGHT
TZOFFSETFROM:-0500
TZOFFSETTO:-0400
TZNAME:EDT
DTSTART:20250309T070000
END:DAYLIGHT
BEGIN:STANDARD
TZOFFSETFROM:-0400
TZOFFSETTO:-0500
TZNAME:EST
DTSTART:20251102T060000
END:STANDARD
BEGIN:DAYLIGHT
TZOFFSETFROM:-0500
TZOFFSETTO:-0400
TZNAME:EDT
DTSTART:20260308T070000
END:DAYLIGHT
BEGIN:STANDARD
TZOFFSETFROM:-0400
TZOFFSETTO:-0500
TZNAME:EST
DTSTART:20261101T060000
END:STANDARD
BEGIN:DAYLIGHT
TZOFFSETFROM:-0500
TZOFFSETTO:-0400
TZNAME:EDT
DTSTART:20270314T070000
END:DAYLIGHT
BEGIN:STANDARD
TZOFFSETFROM:-0400
TZOFFSETTO:-0500
TZNAME:EST
DTSTART:20271107T060000
END:STANDARD
END:VTIMEZONE
BEGIN:VEVENT
DTSTART;TZID=America/New_York:20260421T173000
DTEND;TZID=America/New_York:20260421T190000
DTSTAMP:20260423T085437
CREATED:20260324T210655Z
LAST-MODIFIED:20260330T171951Z
UID:10003891-1776792600-1776798000@cedarmountaincanteen.com
SUMMARY:Spring Tuesday Evening Canteen Golf League
DESCRIPTION:The Canteen’s Tuesday evening golf league is back for Spring 2026 and is open to everyone. This league will begin March 31 and will run through June 30th. \n\nAll levels are welcome for a relaxed walk around Sherwood Forest Golf Course. \nWeekly Blind Draw- 2 person teams with daily and season winners. \nWhen:  5:30 pm every Tuesday \nStarting:  March 31st. \nWhere:  Sherwood Forest Golf Club\, 129 Cardinal Rd\, Brevard\, NC 28718 \nAfter play social time and scoring tabulation at the Cedar Mountain Canteen\, 10771 Greenville\, Hwy\, Downtown Cedar Mountain\, NC 28718 \nFees:  $20 entry plus $1 per game. \nLooking forward to spending time together.
URL:https://cedarmountaincanteen.com/event/spring-tuesday-evening-canteen-golf-league/2026-04-21/
LOCATION:Sherwood Forest Golf Course\, 129 Cardinal Rd\, Brevard\, NC\, 28712\, United States
ATTACH;FMTTYPE=image/jpeg:https://cedarmountaincanteen.com/wp-content/uploads/2025/04/golf.jpeg
END:VEVENT
BEGIN:VEVENT
DTSTART;TZID=America/New_York:20260414T173000
DTEND;TZID=America/New_York:20260414T190000
DTSTAMP:20260423T085437
CREATED:20260324T210655Z
LAST-MODIFIED:20260330T171951Z
UID:10003890-1776187800-1776193200@cedarmountaincanteen.com
SUMMARY:Spring Tuesday Evening Canteen Golf League
DESCRIPTION:The Canteen’s Tuesday evening golf league is back for Spring 2026 and is open to everyone. This league will begin March 31 and will run through June 30th. \n\nAll levels are welcome for a relaxed walk around Sherwood Forest Golf Course. \nWeekly Blind Draw- 2 person teams with daily and season winners. \nWhen:  5:30 pm every Tuesday \nStarting:  March 31st. \nWhere:  Sherwood Forest Golf Club\, 129 Cardinal Rd\, Brevard\, NC 28718 \nAfter play social time and scoring tabulation at the Cedar Mountain Canteen\, 10771 Greenville\, Hwy\, Downtown Cedar Mountain\, NC 28718 \nFees:  $20 entry plus $1 per game. \nLooking forward to spending time together.
URL:https://cedarmountaincanteen.com/event/spring-tuesday-evening-canteen-golf-league/2026-04-14/
LOCATION:Sherwood Forest Golf Course\, 129 Cardinal Rd\, Brevard\, NC\, 28712\, United States
ATTACH;FMTTYPE=image/jpeg:https://cedarmountaincanteen.com/wp-content/uploads/2025/04/golf.jpeg
END:VEVENT
BEGIN:VEVENT
DTSTART;TZID=America/New_York:20260407T173000
DTEND;TZID=America/New_York:20260407T190000
DTSTAMP:20260423T085437
CREATED:20260324T210655Z
LAST-MODIFIED:20260330T171951Z
UID:10003889-1775583000-1775588400@cedarmountaincanteen.com
SUMMARY:Spring Tuesday Evening Canteen Golf League
DESCRIPTION:The Canteen’s Tuesday evening golf league is back for Spring 2026 and is open to everyone. This league will begin March 31 and will run through June 30th. \n\nAll levels are welcome for a relaxed walk around Sherwood Forest Golf Course. \nWeekly Blind Draw- 2 person teams with daily and season winners. \nWhen:  5:30 pm every Tuesday \nStarting:  March 31st. \nWhere:  Sherwood Forest Golf Club\, 129 Cardinal Rd\, Brevard\, NC 28718 \nAfter play social time and scoring tabulation at the Cedar Mountain Canteen\, 10771 Greenville\, Hwy\, Downtown Cedar Mountain\, NC 28718 \nFees:  $20 entry plus $1 per game. \nLooking forward to spending time together.
URL:https://cedarmountaincanteen.com/event/spring-tuesday-evening-canteen-golf-league/2026-04-07/
LOCATION:Sherwood Forest Golf Course\, 129 Cardinal Rd\, Brevard\, NC\, 28712\, United States
ATTACH;FMTTYPE=image/jpeg:https://cedarmountaincanteen.com/wp-content/uploads/2025/04/golf.jpeg
END:VEVENT
BEGIN:VEVENT
DTSTART;TZID=America/New_York:20260331T173000
DTEND;TZID=America/New_York:20260331T190000
DTSTAMP:20260423T085437
CREATED:20260324T210655Z
LAST-MODIFIED:20260330T171951Z
UID:10003888-1774978200-1774983600@cedarmountaincanteen.com
SUMMARY:Spring Tuesday Evening Canteen Golf League
DESCRIPTION:The Canteen’s Tuesday evening golf league is back for Spring 2026 and is open to everyone. This league will begin March 31 and will run through June 30th. \n\nAll levels are welcome for a relaxed walk around Sherwood Forest Golf Course. \nWeekly Blind Draw- 2 person teams with daily and season winners. \nWhen:  5:30 pm every Tuesday \nStarting:  March 31st. \nWhere:  Sherwood Forest Golf Club\, 129 Cardinal Rd\, Brevard\, NC 28718 \nAfter play social time and scoring tabulation at the Cedar Mountain Canteen\, 10771 Greenville\, Hwy\, Downtown Cedar Mountain\, NC 28718 \nFees:  $20 entry plus $1 per game. \nLooking forward to spending time together.
URL:https://cedarmountaincanteen.com/event/spring-tuesday-evening-canteen-golf-league/2026-03-31/
LOCATION:Sherwood Forest Golf Course\, 129 Cardinal Rd\, Brevard\, NC\, 28712\, United States
ATTACH;FMTTYPE=image/jpeg:https://cedarmountaincanteen.com/wp-content/uploads/2025/04/golf.jpeg
END:VEVENT
BEGIN:VEVENT
DTSTART;TZID=America/New_York:20251007T170000
DTEND;TZID=America/New_York:20251007T190000
DTSTAMP:20260423T085437
CREATED:20251003T134623Z
LAST-MODIFIED:20251003T134623Z
UID:10003529-1759856400-1759863600@cedarmountaincanteen.com
SUMMARY:Fall Canteen Golf League
DESCRIPTION:Congratulations to Paul Hensley\, winner of the Canteen’s Spring Golf League! \nThe Canteen’s Tuesday evening golf league is back for Fall.  The league will be begin September 2nd and will run through October 28th. \n\nAll levels are welcome for a relaxed walks around Sherwood Forest Golf Course. \nWeekly blind draw 2 person teams with daily and season winners. \nWhen:  5:00 pm every Tuesday \nStarting:  September 2nd. \nWhere:  Sherwood Forest Golf Club\, 129 Cardinal Rd\, Brevard\, NC 28718 \nAfter play social time and scoring tabulation at the Cedar Mountain Canteen\, 10771 Greenville\, Hwy\, Downtown Cedar Mountain\, NC 28718 \nFees:  $20 entry plus $1 per game. \nLooking forward to spending time together.
URL:https://cedarmountaincanteen.com/event/fall-canteen-golf-league-2/
LOCATION:Sherwood Forest Golf Course\, 129 Cardinal Rd\, Brevard\, NC\, 28712\, United States
ATTACH;FMTTYPE=image/jpeg:https://cedarmountaincanteen.com/wp-content/uploads/2025/04/golf.jpeg
END:VEVENT
END:VCALENDAR